BEGIN:VCALENDAR
VERSION:2.0
PRODID:-//Tukios.com/
BEGIN:VEVENT
UID:6a9653e1-30ea-4ec5-9f33-0bde9c226b73@www.wellsfuneralhome.net
DTSTAMP:20260424T205048Z
DTSTART:20260504T160000Z
DTEND:20260504T170000Z
SUMMARY:Celebration of Life
DESCRIPTION:
URL:https://www.wellsfuneralhome.net/obituaries/chester-rall
LOCATION:Batesville First Methodist Church 340 Highway 35 North  
	Batesville MS 38606
GEO:34.3408116;-89.9271254
END:VEVENT
END:VCALENDAR