BEGIN:VCALENDAR
VERSION:2.0
PRODID:-//Tukios.com/
BEGIN:VEVENT
UID:d4c0885c-86e0-4510-94cf-ab62ca64a2c3@www.wellsfuneralhome.net
DTSTAMP:20260424T205242Z
DTSTART:20260505T190000Z
DTEND:20260505T200000Z
SUMMARY:Graveside Service
DESCRIPTION:
URL:https://www.wellsfuneralhome.net/obituaries/chester-rall
LOCATION:West Tennessee Veterans Cemetery Forest Hill Irene Road  Memphis 
	TN 38016
GEO:35.1590262;-89.7587334
END:VEVENT
END:VCALENDAR