BEGIN:VCALENDAR
VERSION:2.0
PRODID:-//Tukios.com/
BEGIN:VEVENT
UID:524b47bc-b03d-462c-b346-ea1fafd4e09d@www.wellsfuneralhome.net
DTSTAMP:20260424T205049Z
DTSTART:20260504T140000Z
DTEND:20260504T160000Z
SUMMARY:Memorial Gathering
DESCRIPTION:
URL:https://www.wellsfuneralhome.net/obituaries/chester-rall
LOCATION: 119 Panola Avenue  Batesville MS 38606
GEO:34.3182751;-89.9554595
END:VEVENT
END:VCALENDAR