BEGIN:VCALENDAR
VERSION:2.0
PRODID:-//Tukios.com/
BEGIN:VEVENT
UID:3b605870-2d61-4b59-b833-a5c21f44084a@www.wellsfuneralhome.net
DTSTAMP:20260423T001104Z
DTSTART:20260424T173000Z
DTEND:20260424T190000Z
SUMMARY:Visitation
DESCRIPTION:
URL:https://www.wellsfuneralhome.net/obituaries/christopher-chris-sullivan
LOCATION: 340 Highway 35 North  Batesville MS 38606
GEO:34.3408116;-89.9271254
END:VEVENT
END:VCALENDAR