BEGIN:VCALENDAR
VERSION:2.0
PRODID:-//Tukios.com/
BEGIN:VEVENT
UID:801efb1b-6601-427e-abb6-d9fe9c3ee014@www.wellsfuneralhome.net
DTSTAMP:20260423T000911Z
DTSTART:20260424T190000Z
DTEND:20260424T200000Z
SUMMARY:Celebration of Life
DESCRIPTION:
URL:https://www.wellsfuneralhome.net/obituaries/christopher-chris-sullivan
LOCATION: 340 Highway 35 North  Batesville MS 38606
GEO:34.3408116;-89.9271254
END:VEVENT
END:VCALENDAR