BEGIN:VCALENDAR
VERSION:2.0
PRODID:-//Tukios.com/
BEGIN:VEVENT
UID:7c601b31-059b-485b-9ccf-0737da5b12df@www.wellsfuneralhome.net
DTSTAMP:20260423T000951Z
DTSTART:20260424T201500Z
DTEND:20260424T211500Z
SUMMARY:Inurnment
DESCRIPTION:
URL:https://www.wellsfuneralhome.net/obituaries/christopher-chris-sullivan
LOCATION: U.S. 51  Batesville MS 38606
GEO:34.3185102;-89.9429454
END:VEVENT
END:VCALENDAR