BEGIN:VCALENDAR
VERSION:2.0
PRODID:-//Tukios.com/
BEGIN:VEVENT
UID:91a9ab7d-fb7b-4f97-a9dc-772d96862ef9@www.wellsfuneralhome.net
DTSTAMP:20260421T004630Z
DTSTART:20260425T170000Z
DTEND:20260425T180000Z
SUMMARY:Memorial Gathering
DESCRIPTION:
URL:https://www.wellsfuneralhome.net/obituaries/keelyn-ware
LOCATION: 586 Hentz Rd.  Pope MS 38658
GEO:34.2242072;-89.9276785
END:VEVENT
END:VCALENDAR