BEGIN:VCALENDAR
VERSION:2.0
PRODID:-//Tukios.com/
BEGIN:VEVENT
UID:5dd4bdf9-cb7c-4e43-8a8d-cd79fdb4d91c@www.wellsfuneralhome.net
DTSTAMP:20260421T004436Z
DTSTART:20260425T180000Z
DTEND:20260425T190000Z
SUMMARY:Memorial Service
DESCRIPTION:
URL:https://www.wellsfuneralhome.net/obituaries/keelyn-ware
LOCATION: 586 Hentz Rd.  Pope MS 38658
GEO:34.2242072;-89.9276785
END:VEVENT
END:VCALENDAR