BEGIN:VCALENDAR
VERSION:2.0
PRODID:-//Tukios.com/
BEGIN:VEVENT
UID:a1d6f5e1-919d-49a7-a51b-e6dd68a9bbe9@www.wellsfuneralhome.net
DTSTAMP:20260420T001602Z
DTSTART:20260421T180000Z
DTEND:20260421T190000Z
SUMMARY:Memorial Service
DESCRIPTION:
URL:https://www.wellsfuneralhome.net/obituaries/lowry-steele-jr
LOCATION:Martin Willingham Memorial Chapel of Wells Funeral Home 340 
	Highway 35 North  Batesville MS 38606
GEO:34.3408116;-89.9271254
END:VEVENT
END:VCALENDAR