BEGIN:VCALENDAR
VERSION:2.0
PRODID:-//Tukios.com/
BEGIN:VEVENT
UID:b4a0b1ce-9548-46f8-88b8-a27fe9601bdc@www.wellsfuneralhome.net
DTSTAMP:20260420T000934Z
DTSTART:20260421T170000Z
DTEND:20260421T180000Z
SUMMARY:Visitation
DESCRIPTION:
URL:https://www.wellsfuneralhome.net/obituaries/lowry-steele-jr
LOCATION:Martin Willingham Memorial Chapel of Wells Funeral Home 340 
	Highway 35 North  Batesville MS 38606
GEO:34.3408116;-89.9271254
END:VEVENT
END:VCALENDAR