BEGIN:VCALENDAR
VERSION:2.0
PRODID:-//Tukios.com/
BEGIN:VEVENT
UID:46dc9336-97fb-410d-8a54-050adfe53e46@www.wellsfuneralhome.net
DTSTAMP:20260422T211821Z
DTSTART:20260424T180000Z
DTEND:20260424T190000Z
SUMMARY:Memorial Service
DESCRIPTION:
URL:https://www.wellsfuneralhome.net/obituaries/mary-colclasure
LOCATION: 296 Hwy 35 N.  Batesville MS 38606
GEO:34.3404677;-89.9286591
END:VEVENT
END:VCALENDAR