BEGIN:VCALENDAR
VERSION:2.0
PRODID:-//Tukios.com/
BEGIN:VEVENT
UID:901cc05d-ba43-48a7-b88d-fe2f9c360411@www.wellsfuneralhome.net
DTSTAMP:20260422T211729Z
DTSTART:20260424T170000Z
DTEND:20260424T180000Z
SUMMARY:Visitation
DESCRIPTION:
URL:https://www.wellsfuneralhome.net/obituaries/mary-colclasure
LOCATION: 296 Hwy 35 N.  Batesville MS 38606
GEO:34.3404677;-89.9286591
END:VEVENT
END:VCALENDAR