BEGIN:VCALENDAR
VERSION:2.0
PRODID:-//Tukios.com/
BEGIN:VEVENT
UID:fcc1619c-a6fe-49d6-b9f9-eed321d32163@www.wellsfuneralhome.net
DTSTAMP:20260422T083753Z
DTSTART:20260417T181500Z
DTEND:20260417T191500Z
SUMMARY:Burial
DESCRIPTION:
URL:https://www.wellsfuneralhome.net/obituaries/ruthan-mullan
LOCATION:Wallerville Cemetery 1441 Co Rd 121  New Albany MS 38652
GEO:34.4400963;-88.9529129
END:VEVENT
END:VCALENDAR